BEGIN:VCALENDAR
VERSION:2.0
PRODID:spatie/icalendar-generator
DESCRIPTION:Veranstaltungen von BSG Ebersberg e.V.
X-WR-CALDESC:Veranstaltungen von BSG Ebersberg e.V.
REFRESH-INTERVAL;VALUE=DURATION:PT1440M
X-PUBLISHED-TTL:PT1440M
BEGIN:VTIMEZONE
TZID:Etc/GMT+1
BEGIN:STANDARD
DTSTART:20231128T130000Z
TZOFFSETFROM:-0100
TZOFFSETTO:-0100
END:STANDARD
END:VTIMEZONE
BEGIN:VTIMEZONE
TZID:UTC
BEGIN:STANDARD
DTSTART:20250728T013051Z
TZOFFSETFROM:+0000
TZOFFSETTO:+0000
END:STANDARD
END:VTIMEZONE
BEGIN:VEVENT
UID:99-12
DTSTAMP:20260424T013051Z
SUMMARY:BSG Kinder-/Jugend-Sommerfest
LOCATION:Trainingsgelände Bogenplatz Attenberger-Schillinger-Straße 5\, 8
 5560 Ebersberg                                                         Att
 enberger-Schillinger-Straße 5 Am Volksfestplatz Ebersberg hinter dem Fuß
 ballplatz Ebersberg  85560
ORGANIZER;CN=BSGEbe_Admin:MAILTO:info@berthold-forster.de
DTSTART;TZID=Etc/GMT+1:20240824T130000
DTEND;TZID=Etc/GMT+1:20240824T170000
X-ALT-DESC;FMTTYPE=TEXT/HTML:
CATEGORIES:Verein
URL;VALUE=URI:https://bsg-ebersberg.de/mc-events/bsg-kinder-jugend-sommerfe
 st
METHOD:PUBLISH
END:VEVENT
END:VCALENDAR