BEGIN:VCALENDAR
VERSION:2.0
PRODID:spatie/icalendar-generator
DESCRIPTION:Veranstaltungen von BSG Ebersberg e.V.
X-WR-CALDESC:Veranstaltungen von BSG Ebersberg e.V.
REFRESH-INTERVAL;VALUE=DURATION:PT1440M
X-PUBLISHED-TTL:PT1440M
BEGIN:VTIMEZONE
TZID:Etc/GMT+1
BEGIN:STANDARD
DTSTART:20240312T000000Z
TZOFFSETFROM:-0100
TZOFFSETTO:-0100
END:STANDARD
END:VTIMEZONE
BEGIN:VTIMEZONE
TZID:UTC
BEGIN:STANDARD
DTSTART:20250727T084749Z
TZOFFSETFROM:+0000
TZOFFSETTO:+0000
END:STANDARD
END:VTIMEZONE
BEGIN:VEVENT
UID:162-25
DTSTAMP:20260423T084749Z
SUMMARY:Bundesliga Süd - 2. Wettkampftag
LOCATION:Turnhalle der Gemeinde Tacherting  Stefan-Flötzl- Straße 15  Tac
 herting  83342
ORGANIZER;CN=BSGEbe_Admin:MAILTO:info@berthold-forster.de
DTSTART;TZID=Etc/GMT+1;VALUE=DATE:20241207
DTEND;TZID=Etc/GMT+1;VALUE=DATE:20241208
X-ALT-DESC;FMTTYPE=TEXT/HTML:https://bundesliga.dsb.de/bogen/1-bl-sued
CATEGORIES:Bundesliga
URL;VALUE=URI:https://bsg-ebersberg.de/mc-events/bundesliga-sued-2-wettkamp
 ftag
METHOD:PUBLISH
END:VEVENT
END:VCALENDAR